BEGIN:VCALENDAR
VERSION:2.0
PRODID:-//Early Years Hub Training - ECPv6.15.20//NONSGML v1.0//EN
CALSCALE:GREGORIAN
METHOD:PUBLISH
X-WR-CALNAME:Early Years Hub Training
X-ORIGINAL-URL:https://training.rachelbuckler.co.uk
X-WR-CALDESC:Events for Early Years Hub Training
REFRESH-INTERVAL;VALUE=DURATION:PT1H
X-Robots-Tag:noindex
X-PUBLISHED-TTL:PT1H
BEGIN:VTIMEZONE
TZID:Europe/London
BEGIN:DAYLIGHT
TZOFFSETFROM:+0000
TZOFFSETTO:+0100
TZNAME:BST
DTSTART:20200329T010000
END:DAYLIGHT
BEGIN:STANDARD
TZOFFSETFROM:+0100
TZOFFSETTO:+0000
TZNAME:GMT
DTSTART:20201025T010000
END:STANDARD
BEGIN:DAYLIGHT
TZOFFSETFROM:+0000
TZOFFSETTO:+0100
TZNAME:BST
DTSTART:20210328T010000
END:DAYLIGHT
BEGIN:STANDARD
TZOFFSETFROM:+0100
TZOFFSETTO:+0000
TZNAME:GMT
DTSTART:20211031T010000
END:STANDARD
BEGIN:DAYLIGHT
TZOFFSETFROM:+0000
TZOFFSETTO:+0100
TZNAME:BST
DTSTART:20220327T010000
END:DAYLIGHT
BEGIN:STANDARD
TZOFFSETFROM:+0100
TZOFFSETTO:+0000
TZNAME:GMT
DTSTART:20221030T010000
END:STANDARD
BEGIN:DAYLIGHT
TZOFFSETFROM:+0000
TZOFFSETTO:+0100
TZNAME:BST
DTSTART:20230326T010000
END:DAYLIGHT
BEGIN:STANDARD
TZOFFSETFROM:+0100
TZOFFSETTO:+0000
TZNAME:GMT
DTSTART:20231029T010000
END:STANDARD
BEGIN:DAYLIGHT
TZOFFSETFROM:+0000
TZOFFSETTO:+0100
TZNAME:BST
DTSTART:20240331T010000
END:DAYLIGHT
BEGIN:STANDARD
TZOFFSETFROM:+0100
TZOFFSETTO:+0000
TZNAME:GMT
DTSTART:20241027T010000
END:STANDARD
BEGIN:DAYLIGHT
TZOFFSETFROM:+0000
TZOFFSETTO:+0100
TZNAME:BST
DTSTART:20250330T010000
END:DAYLIGHT
BEGIN:STANDARD
TZOFFSETFROM:+0100
TZOFFSETTO:+0000
TZNAME:GMT
DTSTART:20251026T010000
END:STANDARD
END:VTIMEZONE
BEGIN:VEVENT
DTSTART;TZID=Europe/London:20240307T183000
DTEND;TZID=Europe/London:20240307T193000
DTSTAMP:20260420T121332
CREATED:20231009T223407Z
LAST-MODIFIED:20231009T223443Z
UID:32499-1709836200-1709839800@training.rachelbuckler.co.uk
SUMMARY:Safeguarding Children Level 2 live session
DESCRIPTION:You don't have access to this resource - sorry. \n  \n  \n            \n\n                       \n            \n        \n                              Username or E-mail\n        \n        \n      \n      \n        \n          Password\n          \n            \n            \n              \n            \n          \n        \n      \n            \n         Remember Me\n      \n       \n      \n        \n        \n        \n        \n      \n    \n     \n    \n        \n          Forgot Password
URL:https://training.rachelbuckler.co.uk/event/safeguarding-children-level-2-live-session-2/
LOCATION:Zoom
CATEGORIES:SL2,SL2N,SL2S
ATTACH;FMTTYPE=image/jpeg:https://training.rachelbuckler.co.uk/wp-content/uploads/2021/03/EY-HUB-logo.jpg
END:VEVENT
BEGIN:VEVENT
DTSTART;TZID=Europe/London:20240110T183000
DTEND;TZID=Europe/London:20240110T193000
DTSTAMP:20260420T121332
CREATED:20231009T222805Z
LAST-MODIFIED:20231009T223111Z
UID:32494-1704911400-1704915000@training.rachelbuckler.co.uk
SUMMARY:Safeguarding Children Level 2 live session
DESCRIPTION:You don't have access to this resource - sorry. \n  \n  \n            \n\n                       \n            \n        \n                              Username or E-mail\n        \n        \n      \n      \n        \n          Password\n          \n            \n            \n              \n            \n          \n        \n      \n            \n         Remember Me\n      \n       \n      \n        \n        \n        \n        \n      \n    \n     \n    \n        \n          Forgot Password
URL:https://training.rachelbuckler.co.uk/event/safeguarding-children-level-2-live-session/
LOCATION:Zoom
CATEGORIES:SL2,SL2N,SL2S
ATTACH;FMTTYPE=image/jpeg:https://training.rachelbuckler.co.uk/wp-content/uploads/2021/03/EY-HUB-logo.jpg
END:VEVENT
BEGIN:VEVENT
DTSTART;TZID=Europe/London:20231115T183000
DTEND;TZID=Europe/London:20231115T193000
DTSTAMP:20260420T121332
CREATED:20230419T152134Z
LAST-MODIFIED:20230419T152639Z
UID:31925-1700073000-1700076600@training.rachelbuckler.co.uk
SUMMARY:Safeguarding Level 2 Conversation Live
DESCRIPTION:You don't have access to this resource - sorry. \n  \n  \n            \n\n                       \n            \n        \n                              Username or E-mail\n        \n        \n      \n      \n        \n          Password\n          \n            \n            \n              \n            \n          \n        \n      \n            \n         Remember Me\n      \n       \n      \n        \n        \n        \n        \n      \n    \n     \n    \n        \n          Forgot Password
URL:https://training.rachelbuckler.co.uk/event/safeguarding-level-2-conversation-live-3/
LOCATION:Zoom
CATEGORIES:SL2
ATTACH;FMTTYPE=image/jpeg:https://training.rachelbuckler.co.uk/wp-content/uploads/2021/03/EY-HUB-logo.jpg
END:VEVENT
BEGIN:VEVENT
DTSTART;TZID=Europe/London:20230906T183000
DTEND;TZID=Europe/London:20230906T183000
DTSTAMP:20260420T121332
CREATED:20230419T152018Z
LAST-MODIFIED:20230419T152636Z
UID:31923-1694025000-1694025000@training.rachelbuckler.co.uk
SUMMARY:Safeguarding Level 2 Conversation Live
DESCRIPTION:You don't have access to this resource - sorry. \n  \n  \n            \n\n                       \n            \n        \n                              Username or E-mail\n        \n        \n      \n      \n        \n          Password\n          \n            \n            \n              \n            \n          \n        \n      \n            \n         Remember Me\n      \n       \n      \n        \n        \n        \n        \n      \n    \n     \n    \n        \n          Forgot Password
URL:https://training.rachelbuckler.co.uk/event/safeguarding-level-2-conversation-live-2/
LOCATION:Zoom
CATEGORIES:SL2
ATTACH;FMTTYPE=image/jpeg:https://training.rachelbuckler.co.uk/wp-content/uploads/2021/03/EY-HUB-logo.jpg
END:VEVENT
BEGIN:VEVENT
DTSTART;TZID=Europe/London:20230706T183000
DTEND;TZID=Europe/London:20230706T193000
DTSTAMP:20260420T121332
CREATED:20230419T151840Z
LAST-MODIFIED:20230419T152633Z
UID:31920-1688668200-1688671800@training.rachelbuckler.co.uk
SUMMARY:Safeguarding Level 2 Conversation Live
DESCRIPTION:You don't have access to this resource - sorry. \n  \n  \n            \n\n                       \n            \n        \n                              Username or E-mail\n        \n        \n      \n      \n        \n          Password\n          \n            \n            \n              \n            \n          \n        \n      \n            \n         Remember Me\n      \n       \n      \n        \n        \n        \n        \n      \n    \n     \n    \n        \n          Forgot Password
URL:https://training.rachelbuckler.co.uk/event/safeguarding-level-2-conversation-live/
LOCATION:Zoom
CATEGORIES:SL2
ATTACH;FMTTYPE=image/jpeg:https://training.rachelbuckler.co.uk/wp-content/uploads/2021/03/EY-HUB-logo.jpg
END:VEVENT
BEGIN:VEVENT
DTSTART;TZID=Europe/London:20230531T183000
DTEND;TZID=Europe/London:20230531T193000
DTSTAMP:20260420T121332
CREATED:20220903T180153Z
LAST-MODIFIED:20220903T180153Z
UID:30690-1685557800-1685561400@training.rachelbuckler.co.uk
SUMMARY:Session 18 of the Safeguarding Level 2 Conversation Live
DESCRIPTION:You don't have access to this resource - sorry. \n  \n  \n            \n\n                       \n            \n        \n                              Username or E-mail\n        \n        \n      \n      \n        \n          Password\n          \n            \n            \n              \n            \n          \n        \n      \n            \n         Remember Me\n      \n       \n      \n        \n        \n        \n        \n      \n    \n     \n    \n        \n          Forgot Password
URL:https://training.rachelbuckler.co.uk/event/session-18-of-the-safeguarding-level-2-conversation-live/
LOCATION:Zoom
CATEGORIES:SL2
ATTACH;FMTTYPE=image/jpeg:https://training.rachelbuckler.co.uk/wp-content/uploads/2021/03/EY-HUB-logo.jpg
END:VEVENT
BEGIN:VEVENT
DTSTART;TZID=Europe/London:20230419T183000
DTEND;TZID=Europe/London:20230419T193000
DTSTAMP:20260420T121332
CREATED:20220903T180013Z
LAST-MODIFIED:20220903T180013Z
UID:30688-1681929000-1681932600@training.rachelbuckler.co.uk
SUMMARY:Session 17 of the Safeguarding Level 2 Conversation Live
DESCRIPTION:You don't have access to this resource - sorry. \n  \n  \n            \n\n                       \n            \n        \n                              Username or E-mail\n        \n        \n      \n      \n        \n          Password\n          \n            \n            \n              \n            \n          \n        \n      \n            \n         Remember Me\n      \n       \n      \n        \n        \n        \n        \n      \n    \n     \n    \n        \n          Forgot Password
URL:https://training.rachelbuckler.co.uk/event/session-17-of-the-safeguarding-level-2-conversation-live/
LOCATION:Zoom
CATEGORIES:SL2
ATTACH;FMTTYPE=image/jpeg:https://training.rachelbuckler.co.uk/wp-content/uploads/2021/03/EY-HUB-logo.jpg
END:VEVENT
BEGIN:VEVENT
DTSTART;TZID=Europe/London:20230308T183000
DTEND;TZID=Europe/London:20230308T193000
DTSTAMP:20260420T121332
CREATED:20220903T175811Z
LAST-MODIFIED:20220903T175811Z
UID:30686-1678300200-1678303800@training.rachelbuckler.co.uk
SUMMARY:Session 16 of the Safeguarding Level 2 Conversation Live
DESCRIPTION:You don't have access to this resource - sorry. \n  \n  \n            \n\n                       \n            \n        \n                              Username or E-mail\n        \n        \n      \n      \n        \n          Password\n          \n            \n            \n              \n            \n          \n        \n      \n            \n         Remember Me\n      \n       \n      \n        \n        \n        \n        \n      \n    \n     \n    \n        \n          Forgot Password
URL:https://training.rachelbuckler.co.uk/event/session-16-of-the-safeguarding-level-2-conversation-live-2/
LOCATION:Zoom
CATEGORIES:SL2
ATTACH;FMTTYPE=image/jpeg:https://training.rachelbuckler.co.uk/wp-content/uploads/2021/03/EY-HUB-logo.jpg
END:VEVENT
BEGIN:VEVENT
DTSTART;TZID=Europe/London:20230117T183000
DTEND;TZID=Europe/London:20230117T193000
DTSTAMP:20260420T121332
CREATED:20220903T175636Z
LAST-MODIFIED:20220903T175636Z
UID:30684-1673980200-1673983800@training.rachelbuckler.co.uk
SUMMARY:Session 16 of the Safeguarding Level 2 Conversation Live
DESCRIPTION:You don't have access to this resource - sorry. \n  \n  \n            \n\n                       \n            \n        \n                              Username or E-mail\n        \n        \n      \n      \n        \n          Password\n          \n            \n            \n              \n            \n          \n        \n      \n            \n         Remember Me\n      \n       \n      \n        \n        \n        \n        \n      \n    \n     \n    \n        \n          Forgot Password
URL:https://training.rachelbuckler.co.uk/event/session-16-of-the-safeguarding-level-2-conversation-live/
LOCATION:Zoom
CATEGORIES:SL2
ATTACH;FMTTYPE=image/jpeg:https://training.rachelbuckler.co.uk/wp-content/uploads/2021/03/EY-HUB-logo.jpg
END:VEVENT
BEGIN:VEVENT
DTSTART;TZID=Europe/London:20221129T183000
DTEND;TZID=Europe/London:20221129T193000
DTSTAMP:20260420T121332
CREATED:20220903T175431Z
LAST-MODIFIED:20220903T175431Z
UID:30682-1669746600-1669750200@training.rachelbuckler.co.uk
SUMMARY:Session 15 of the Safeguarding Level 2 Conversation Live
DESCRIPTION:You don't have access to this resource - sorry. \n  \n  \n            \n\n                       \n            \n        \n                              Username or E-mail\n        \n        \n      \n      \n        \n          Password\n          \n            \n            \n              \n            \n          \n        \n      \n            \n         Remember Me\n      \n       \n      \n        \n        \n        \n        \n      \n    \n     \n    \n        \n          Forgot Password
URL:https://training.rachelbuckler.co.uk/event/session-15-of-the-safeguarding-level-2-conversation-live/
LOCATION:Zoom
CATEGORIES:SL2
ATTACH;FMTTYPE=image/jpeg:https://training.rachelbuckler.co.uk/wp-content/uploads/2021/03/EY-HUB-logo.jpg
END:VEVENT
BEGIN:VEVENT
DTSTART;TZID=Europe/London:20221011T183000
DTEND;TZID=Europe/London:20221011T193000
DTSTAMP:20260420T121332
CREATED:20220522T220558Z
LAST-MODIFIED:20220609T090544Z
UID:30190-1665513000-1665516600@training.rachelbuckler.co.uk
SUMMARY:Session 14 of the Safeguarding Level 2 Conversation Live
DESCRIPTION:You don't have access to this resource - sorry.
URL:https://training.rachelbuckler.co.uk/event/session-13-of-the-safeguarding-level-2-conversation-live/
LOCATION:Zoom
CATEGORIES:SL2
END:VEVENT
BEGIN:VEVENT
DTSTART;TZID=Europe/London:20220908T183000
DTEND;TZID=Europe/London:20220908T193000
DTSTAMP:20260420T121332
CREATED:20220522T220058Z
LAST-MODIFIED:20220609T090536Z
UID:30188-1662661800-1662665400@training.rachelbuckler.co.uk
SUMMARY:Session 13 of the Safeguarding Level 2 Conversation Live
DESCRIPTION:You don't have access to this resource - sorry.
URL:https://training.rachelbuckler.co.uk/event/session-12-of-the-safeguarding-level-2-conversation-live/
LOCATION:Zoom
CATEGORIES:SL2
END:VEVENT
BEGIN:VEVENT
DTSTART;TZID=Europe/London:20220728T183000
DTEND;TZID=Europe/London:20220728T193000
DTSTAMP:20260420T121332
CREATED:20220609T091317Z
LAST-MODIFIED:20220609T091317Z
UID:30332-1659033000-1659036600@training.rachelbuckler.co.uk
SUMMARY:Session 12 of the Safeguarding Level 2 Conversation Live
DESCRIPTION:You don't have access to this resource - sorry.
URL:https://training.rachelbuckler.co.uk/event/session-12-of-the-safeguarding-level-2-conversation-live-2/
LOCATION:Zoom
CATEGORIES:SL2
ATTACH;FMTTYPE=image/jpeg:https://training.rachelbuckler.co.uk/wp-content/uploads/2021/03/EY-HUB-logo.jpg
END:VEVENT
BEGIN:VEVENT
DTSTART;TZID=Europe/London:20220601T183000
DTEND;TZID=Europe/London:20220601T193000
DTSTAMP:20260420T121332
CREATED:20211124T093934Z
LAST-MODIFIED:20220309T121929Z
UID:28973-1654108200-1654111800@training.rachelbuckler.co.uk
SUMMARY:Session 11 of the Safeguarding Level 2 Conversation Live
DESCRIPTION:You don't have access to this resource - sorry.
URL:https://training.rachelbuckler.co.uk/event/session-11-of-the-safeguarding-level-2-conversation-live/
LOCATION:Zoom
CATEGORIES:SL2
ATTACH;FMTTYPE=image/jpeg:https://training.rachelbuckler.co.uk/wp-content/uploads/2021/03/EY-HUB-logo.jpg
END:VEVENT
BEGIN:VEVENT
DTSTART;TZID=Europe/London:20220405T183000
DTEND;TZID=Europe/London:20220405T193000
DTSTAMP:20260420T121332
CREATED:20211124T093800Z
LAST-MODIFIED:20220309T121838Z
UID:28971-1649183400-1649187000@training.rachelbuckler.co.uk
SUMMARY:Session 10 of the Safeguarding Level 2 Conversation Live
DESCRIPTION:You don't have access to this resource - sorry.
URL:https://training.rachelbuckler.co.uk/event/session-10-of-the-safeguarding-level-2-conversation-live/
LOCATION:Zoom
CATEGORIES:SL2
ATTACH;FMTTYPE=image/jpeg:https://training.rachelbuckler.co.uk/wp-content/uploads/2021/03/EY-HUB-logo.jpg
END:VEVENT
BEGIN:VEVENT
DTSTART;TZID=Europe/London:20220308T183000
DTEND;TZID=Europe/London:20220308T193000
DTSTAMP:20260420T121332
CREATED:20211124T093558Z
LAST-MODIFIED:20211124T093558Z
UID:28969-1646764200-1646767800@training.rachelbuckler.co.uk
SUMMARY:Session 9 of the Safeguarding Level 2 Conversation Live
DESCRIPTION:You don't have access to this resource - sorry.
URL:https://training.rachelbuckler.co.uk/event/session-9-of-the-safeguarding-level-2-conversation-live/
LOCATION:Zoom
CATEGORIES:SL2
ATTACH;FMTTYPE=image/jpeg:https://training.rachelbuckler.co.uk/wp-content/uploads/2021/03/EY-HUB-logo.jpg
END:VEVENT
BEGIN:VEVENT
DTSTART;TZID=Europe/London:20220111T183000
DTEND;TZID=Europe/London:20220111T193000
DTSTAMP:20260420T121332
CREATED:20211124T093423Z
LAST-MODIFIED:20211124T093423Z
UID:28967-1641925800-1641929400@training.rachelbuckler.co.uk
SUMMARY:Session 8 of the Safeguarding Level 2 Conversation Live
DESCRIPTION:You don't have access to this resource - sorry.
URL:https://training.rachelbuckler.co.uk/event/session-8-of-the-safeguarding-level-2-conversation-live/
LOCATION:Zoom
CATEGORIES:SL2
ATTACH;FMTTYPE=image/jpeg:https://training.rachelbuckler.co.uk/wp-content/uploads/2021/03/EY-HUB-logo.jpg
END:VEVENT
BEGIN:VEVENT
DTSTART;TZID=Europe/London:20211124T183000
DTEND;TZID=Europe/London:20211124T193000
DTSTAMP:20260420T121332
CREATED:20210505T153157Z
LAST-MODIFIED:20210505T153157Z
UID:28173-1637778600-1637782200@training.rachelbuckler.co.uk
SUMMARY:Session 7 of the Safeguarding Level 2 Conversation Live
DESCRIPTION:You don't have access to this resource - sorry.
URL:https://training.rachelbuckler.co.uk/event/session-7-of-the-safeguarding-level-2-conversation-live/
LOCATION:Zoom
CATEGORIES:SL2
ATTACH;FMTTYPE=image/jpeg:https://training.rachelbuckler.co.uk/wp-content/uploads/2021/03/EY-HUB-logo.jpg
END:VEVENT
BEGIN:VEVENT
DTSTART;TZID=Europe/London:20211019T183000
DTEND;TZID=Europe/London:20211019T193000
DTSTAMP:20260420T121332
CREATED:20210505T152959Z
LAST-MODIFIED:20210505T153617Z
UID:28171-1634668200-1634671800@training.rachelbuckler.co.uk
SUMMARY:Session 6 of the Safeguarding Level 2 Conversation Live
DESCRIPTION:You don't have access to this resource - sorry.
URL:https://training.rachelbuckler.co.uk/event/session-6-of-the-safeguarding-level-2-conversation-live/
LOCATION:Zoom
CATEGORIES:SL2
ATTACH;FMTTYPE=image/jpeg:https://training.rachelbuckler.co.uk/wp-content/uploads/2021/03/EY-HUB-logo.jpg
END:VEVENT
BEGIN:VEVENT
DTSTART;TZID=Europe/London:20210909T183000
DTEND;TZID=Europe/London:20210909T193000
DTSTAMP:20260420T121332
CREATED:20210505T152745Z
LAST-MODIFIED:20210505T152745Z
UID:28169-1631212200-1631215800@training.rachelbuckler.co.uk
SUMMARY:Session 5 of the Safeguarding Level 2 Conversation Live
DESCRIPTION:You don't have access to this resource - sorry.
URL:https://training.rachelbuckler.co.uk/event/session-5-of-the-safeguarding-level-2-conversation-live/
LOCATION:Zoom
CATEGORIES:SL2
ATTACH;FMTTYPE=image/jpeg:https://training.rachelbuckler.co.uk/wp-content/uploads/2021/03/EY-HUB-logo.jpg
END:VEVENT
BEGIN:VEVENT
DTSTART;TZID=Europe/London:20210714T183000
DTEND;TZID=Europe/London:20210714T193000
DTSTAMP:20260420T121332
CREATED:20210505T152532Z
LAST-MODIFIED:20210505T153447Z
UID:28167-1626287400-1626291000@training.rachelbuckler.co.uk
SUMMARY:Session 4 of the Safeguarding Level 2 Conversation Live
DESCRIPTION:You don't have access to this resource - sorry.
URL:https://training.rachelbuckler.co.uk/event/session-4-of-the-safeguarding-level-2-conversation-live/
LOCATION:Zoom
CATEGORIES:SL2
ATTACH;FMTTYPE=image/jpeg:https://training.rachelbuckler.co.uk/wp-content/uploads/2021/03/EY-HUB-logo.jpg
END:VEVENT
BEGIN:VEVENT
DTSTART;TZID=Europe/London:20210608T183000
DTEND;TZID=Europe/London:20210608T193000
DTSTAMP:20260420T121332
CREATED:20210505T152354Z
LAST-MODIFIED:20210505T153415Z
UID:28165-1623177000-1623180600@training.rachelbuckler.co.uk
SUMMARY:Session 3 of the Safeguarding Level 2 Conversation Live
DESCRIPTION:You don't have access to this resource - sorry.
URL:https://training.rachelbuckler.co.uk/event/session-3-of-the-safeguarding-level-2-conversation-live/
LOCATION:Zoom
CATEGORIES:SL2
ATTACH;FMTTYPE=image/jpeg:https://training.rachelbuckler.co.uk/wp-content/uploads/2021/03/EY-HUB-logo.jpg
END:VEVENT
BEGIN:VEVENT
DTSTART;TZID=Europe/London:20210513T183000
DTEND;TZID=Europe/London:20210513T193000
DTSTAMP:20260420T121332
CREATED:20210331T150653Z
LAST-MODIFIED:20210331T150931Z
UID:28058-1620930600-1620934200@training.rachelbuckler.co.uk
SUMMARY:Session 2 of the Safeguarding Level 2 Conversation Live
DESCRIPTION:You don't have access to this resource - sorry.
URL:https://training.rachelbuckler.co.uk/event/session-2-of-the-safeguarding-level-2-conversation-live/
LOCATION:Zoom
CATEGORIES:SL2
ATTACH;FMTTYPE=image/jpeg:https://training.rachelbuckler.co.uk/wp-content/uploads/2021/03/EY-HUB-logo.jpg
END:VEVENT
BEGIN:VEVENT
DTSTART;TZID=Europe/London:20210427T183000
DTEND;TZID=Europe/London:20210427T193000
DTSTAMP:20260420T121332
CREATED:20210331T145250Z
LAST-MODIFIED:20210331T151024Z
UID:28055-1619548200-1619551800@training.rachelbuckler.co.uk
SUMMARY:Session 1 of the Safeguarding Level 2 Conversation Live
DESCRIPTION:You don't have access to this resource - sorry.
URL:https://training.rachelbuckler.co.uk/event/session-1-of-the-safeguarding-level-2-conversation-live/
LOCATION:Zoom
CATEGORIES:SL2
ATTACH;FMTTYPE=image/jpeg:https://training.rachelbuckler.co.uk/wp-content/uploads/2021/03/EY-HUB-logo.jpg
END:VEVENT
END:VCALENDAR