BEGIN:VCALENDAR
VERSION:2.0
PRODID:-//Early Years Hub Training - ECPv6.15.20//NONSGML v1.0//EN
CALSCALE:GREGORIAN
METHOD:PUBLISH
X-ORIGINAL-URL:https://training.rachelbuckler.co.uk
X-WR-CALDESC:Events for Early Years Hub Training
REFRESH-INTERVAL;VALUE=DURATION:PT1H
X-Robots-Tag:noindex
X-PUBLISHED-TTL:PT1H
BEGIN:VTIMEZONE
TZID:Europe/London
BEGIN:DAYLIGHT
TZOFFSETFROM:+0000
TZOFFSETTO:+0100
TZNAME:BST
DTSTART:20210328T010000
END:DAYLIGHT
BEGIN:STANDARD
TZOFFSETFROM:+0100
TZOFFSETTO:+0000
TZNAME:GMT
DTSTART:20211031T010000
END:STANDARD
BEGIN:DAYLIGHT
TZOFFSETFROM:+0000
TZOFFSETTO:+0100
TZNAME:BST
DTSTART:20220327T010000
END:DAYLIGHT
BEGIN:STANDARD
TZOFFSETFROM:+0100
TZOFFSETTO:+0000
TZNAME:GMT
DTSTART:20221030T010000
END:STANDARD
BEGIN:DAYLIGHT
TZOFFSETFROM:+0000
TZOFFSETTO:+0100
TZNAME:BST
DTSTART:20230326T010000
END:DAYLIGHT
BEGIN:STANDARD
TZOFFSETFROM:+0100
TZOFFSETTO:+0000
TZNAME:GMT
DTSTART:20231029T010000
END:STANDARD
END:VTIMEZONE
BEGIN:VEVENT
DTSTART;TZID=Europe/London:20220928T183000
DTEND;TZID=Europe/London:20220928T193000
DTSTAMP:20260423T001027
CREATED:20220903T173232Z
LAST-MODIFIED:20220903T174110Z
UID:30662-1664389800-1664393400@training.rachelbuckler.co.uk
SUMMARY:Session 4 of the DSL Scotland Safeguarding Conversation Live
DESCRIPTION:You don't have access to this resource - sorry. \n  \n  \n            \n\n                       \n            \n        \n                              Username or E-mail\n        \n        \n      \n      \n        \n          Password\n          \n            \n            \n              \n            \n          \n        \n      \n            \n         Remember Me\n      \n       \n      \n        \n        \n        \n        \n      \n    \n     \n    \n        \n          Forgot Password
URL:https://training.rachelbuckler.co.uk/event/session-3-of-the-dsl-scotland-safeguarding-conversation-live-2/
LOCATION:Zoom
CATEGORIES:DSLS
ATTACH;FMTTYPE=image/jpeg:https://training.rachelbuckler.co.uk/wp-content/uploads/2021/05/EYH-Landscape-Saltire.jpg
END:VEVENT
END:VCALENDAR