BEGIN:VCALENDAR
VERSION:2.0
PRODID:-//Early Years Hub Training - ECPv6.15.20//NONSGML v1.0//EN
CALSCALE:GREGORIAN
METHOD:PUBLISH
X-ORIGINAL-URL:https://training.rachelbuckler.co.uk
X-WR-CALDESC:Events for Early Years Hub Training
REFRESH-INTERVAL;VALUE=DURATION:PT1H
X-Robots-Tag:noindex
X-PUBLISHED-TTL:PT1H
BEGIN:VTIMEZONE
TZID:Europe/London
BEGIN:DAYLIGHT
TZOFFSETFROM:+0000
TZOFFSETTO:+0100
TZNAME:BST
DTSTART:20200329T010000
END:DAYLIGHT
BEGIN:STANDARD
TZOFFSETFROM:+0100
TZOFFSETTO:+0000
TZNAME:GMT
DTSTART:20201025T010000
END:STANDARD
BEGIN:DAYLIGHT
TZOFFSETFROM:+0000
TZOFFSETTO:+0100
TZNAME:BST
DTSTART:20210328T010000
END:DAYLIGHT
BEGIN:STANDARD
TZOFFSETFROM:+0100
TZOFFSETTO:+0000
TZNAME:GMT
DTSTART:20211031T010000
END:STANDARD
BEGIN:DAYLIGHT
TZOFFSETFROM:+0000
TZOFFSETTO:+0100
TZNAME:BST
DTSTART:20220327T010000
END:DAYLIGHT
BEGIN:STANDARD
TZOFFSETFROM:+0100
TZOFFSETTO:+0000
TZNAME:GMT
DTSTART:20221030T010000
END:STANDARD
BEGIN:DAYLIGHT
TZOFFSETFROM:+0000
TZOFFSETTO:+0100
TZNAME:BST
DTSTART:20230326T010000
END:DAYLIGHT
BEGIN:STANDARD
TZOFFSETFROM:+0100
TZOFFSETTO:+0000
TZNAME:GMT
DTSTART:20231029T010000
END:STANDARD
BEGIN:DAYLIGHT
TZOFFSETFROM:+0000
TZOFFSETTO:+0100
TZNAME:BST
DTSTART:20240331T010000
END:DAYLIGHT
BEGIN:STANDARD
TZOFFSETFROM:+0100
TZOFFSETTO:+0000
TZNAME:GMT
DTSTART:20241027T010000
END:STANDARD
BEGIN:DAYLIGHT
TZOFFSETFROM:+0000
TZOFFSETTO:+0100
TZNAME:BST
DTSTART:20250330T010000
END:DAYLIGHT
BEGIN:STANDARD
TZOFFSETFROM:+0100
TZOFFSETTO:+0000
TZNAME:GMT
DTSTART:20251026T010000
END:STANDARD
END:VTIMEZONE
BEGIN:VTIMEZONE
TZID:UTC
BEGIN:STANDARD
TZOFFSETFROM:+0000
TZOFFSETTO:+0000
TZNAME:UTC
DTSTART:20200101T000000
END:STANDARD
END:VTIMEZONE
BEGIN:VEVENT
DTSTART;TZID=Europe/London:20240306T183000
DTEND;TZID=Europe/London:20240306T193000
DTSTAMP:20260420T134917
CREATED:20231009T223006Z
LAST-MODIFIED:20231009T223156Z
UID:32496-1709749800-1709753400@training.rachelbuckler.co.uk
SUMMARY:Designated Safeguarding Lead & Refresher Masterclass live session
DESCRIPTION:You don't have access to this resource - sorry. \n  \n  \n            \n\n                       \n            \n        \n                              Username or E-mail\n        \n        \n      \n      \n        \n          Password\n          \n            \n            \n              \n            \n          \n        \n      \n            \n         Remember Me\n      \n       \n      \n        \n        \n        \n        \n      \n    \n     \n    \n        \n          Forgot Password
URL:https://training.rachelbuckler.co.uk/event/designated-safeguarding-lead-refresher-masterclass-live-session-2/
LOCATION:Zoom
CATEGORIES:DSL,DSL Refresher,DSLS
ATTACH;FMTTYPE=image/jpeg:https://training.rachelbuckler.co.uk/wp-content/uploads/2021/03/EY-HUB-logo.jpg
END:VEVENT
BEGIN:VEVENT
DTSTART;TZID=Europe/London:20240109T183000
DTEND;TZID=Europe/London:20240109T193000
DTSTAMP:20260420T134917
CREATED:20231009T222625Z
LAST-MODIFIED:20231009T223144Z
UID:32492-1704825000-1704828600@training.rachelbuckler.co.uk
SUMMARY:Designated Safeguarding Lead & Refresher Masterclass live session
DESCRIPTION:You don't have access to this resource - sorry. \n  \n  \n            \n\n                       \n            \n        \n                              Username or E-mail\n        \n        \n      \n      \n        \n          Password\n          \n            \n            \n              \n            \n          \n        \n      \n            \n         Remember Me\n      \n       \n      \n        \n        \n        \n        \n      \n    \n     \n    \n        \n          Forgot Password
URL:https://training.rachelbuckler.co.uk/event/designated-safeguarding-lead-refresher-masterclass-live-session/
LOCATION:Zoom
CATEGORIES:DSL,DSL Refresher,DSLS
ATTACH;FMTTYPE=image/jpeg:https://training.rachelbuckler.co.uk/wp-content/uploads/2021/03/EY-HUB-logo.jpg
END:VEVENT
BEGIN:VEVENT
DTSTART;TZID=Europe/London:20231114T183000
DTEND;TZID=Europe/London:20231114T193000
DTSTAMP:20260420T134917
CREATED:20230419T151641Z
LAST-MODIFIED:20230419T152508Z
UID:31918-1699986600-1699990200@training.rachelbuckler.co.uk
SUMMARY:Designated Safeguarding Lead & Refresher Live Session
DESCRIPTION:You don't have access to this resource - sorry.
URL:https://training.rachelbuckler.co.uk/event/designated-safeguarding-lead-refresher-live-session-3/
LOCATION:Zoom
CATEGORIES:DSL,DSL Refresher
ATTACH;FMTTYPE=image/jpeg:https://training.rachelbuckler.co.uk/wp-content/uploads/2021/03/EY-HUB-logo.jpg
END:VEVENT
BEGIN:VEVENT
DTSTART;TZID=Europe/London:20230905T183000
DTEND;TZID=Europe/London:20230905T193000
DTSTAMP:20260420T134917
CREATED:20230419T151511Z
LAST-MODIFIED:20230419T152511Z
UID:31916-1693938600-1693942200@training.rachelbuckler.co.uk
SUMMARY:Designated Safeguarding Lead & Refresher Live Session
DESCRIPTION:You don't have access to this resource - sorry.
URL:https://training.rachelbuckler.co.uk/event/designated-safeguarding-lead-refresher-live-session-2/
LOCATION:Zoom
CATEGORIES:DSL,DSL Refresher
ATTACH;FMTTYPE=image/jpeg:https://training.rachelbuckler.co.uk/wp-content/uploads/2021/03/EY-HUB-logo.jpg
END:VEVENT
BEGIN:VEVENT
DTSTART;TZID=Europe/London:20230705T183000
DTEND;TZID=Europe/London:20230705T193000
DTSTAMP:20260420T134917
CREATED:20230219T235140Z
LAST-MODIFIED:20230419T152427Z
UID:31518-1688581800-1688585400@training.rachelbuckler.co.uk
SUMMARY:Designated Safeguarding Lead & Refresher Live Session
DESCRIPTION:You don't have access to this resource - sorry.
URL:https://training.rachelbuckler.co.uk/event/designated-safeguarding-lead-refresher-live-session/
LOCATION:Zoom
CATEGORIES:DSL,DSL Refresher
ATTACH;FMTTYPE=image/jpeg:https://training.rachelbuckler.co.uk/wp-content/uploads/2021/03/EY-HUB-logo.jpg
END:VEVENT
BEGIN:VEVENT
DTSTART;TZID=Europe/London:20230530T183000
DTEND;TZID=Europe/London:20230530T193000
DTSTAMP:20260420T134917
CREATED:20220903T175121Z
LAST-MODIFIED:20220903T175121Z
UID:30680-1685471400-1685475000@training.rachelbuckler.co.uk
SUMMARY:Session 21 of the DSL Safeguarding Conversation Live
DESCRIPTION:You don't have access to this resource - sorry.
URL:https://training.rachelbuckler.co.uk/event/session-21-of-the-dsl-safeguarding-conversation-live/
LOCATION:Zoom
CATEGORIES:DSL
ATTACH;FMTTYPE=image/jpeg:https://training.rachelbuckler.co.uk/wp-content/uploads/2021/03/EY-HUB-logo.jpg
END:VEVENT
BEGIN:VEVENT
DTSTART;TZID=Europe/London:20230418T183000
DTEND;TZID=Europe/London:20230418T193000
DTSTAMP:20260420T134917
CREATED:20220903T175005Z
LAST-MODIFIED:20220903T175005Z
UID:30678-1681842600-1681846200@training.rachelbuckler.co.uk
SUMMARY:Session 20 of the DSL Safeguarding Conversation Live
DESCRIPTION:You don't have access to this resource - sorry.
URL:https://training.rachelbuckler.co.uk/event/session-20-of-the-dsl-safeguarding-conversation-live/
LOCATION:Zoom
CATEGORIES:DSL
ATTACH;FMTTYPE=image/jpeg:https://training.rachelbuckler.co.uk/wp-content/uploads/2021/03/EY-HUB-logo.jpg
END:VEVENT
BEGIN:VEVENT
DTSTART;TZID=Europe/London:20230307T183000
DTEND;TZID=Europe/London:20230307T193000
DTSTAMP:20260420T134917
CREATED:20220903T174833Z
LAST-MODIFIED:20220903T174833Z
UID:30676-1678213800-1678217400@training.rachelbuckler.co.uk
SUMMARY:Session 19 of the DSL Safeguarding Conversation Live
DESCRIPTION:You don't have access to this resource - sorry.
URL:https://training.rachelbuckler.co.uk/event/session-19-of-the-dsl-safeguarding-conversation-live/
LOCATION:Zoom
CATEGORIES:DSL
ATTACH;FMTTYPE=image/jpeg:https://training.rachelbuckler.co.uk/wp-content/uploads/2021/03/EY-HUB-logo.jpg
END:VEVENT
BEGIN:VEVENT
DTSTART;TZID=Europe/London:20230111T183000
DTEND;TZID=Europe/London:20230111T193000
DTSTAMP:20260420T134917
CREATED:20220903T174647Z
LAST-MODIFIED:20220903T174647Z
UID:30674-1673461800-1673465400@training.rachelbuckler.co.uk
SUMMARY:Session 18 of the DSL Safeguarding Conversation Live
DESCRIPTION:You don't have access to this resource - sorry.
URL:https://training.rachelbuckler.co.uk/event/session-18-of-the-dsl-safeguarding-conversation-live/
LOCATION:Zoom
CATEGORIES:DSL
ATTACH;FMTTYPE=image/jpeg:https://training.rachelbuckler.co.uk/wp-content/uploads/2021/03/EY-HUB-logo.jpg
END:VEVENT
BEGIN:VEVENT
DTSTART;TZID=Europe/London:20221123T183000
DTEND;TZID=Europe/London:20221123T193000
DTSTAMP:20260420T134917
CREATED:20220903T174344Z
LAST-MODIFIED:20220903T174344Z
UID:30670-1669228200-1669231800@training.rachelbuckler.co.uk
SUMMARY:Session 17 of the DSL Safeguarding Conversation Live
DESCRIPTION:You don't have access to this resource - sorry.
URL:https://training.rachelbuckler.co.uk/event/session-17-of-the-dsl-safeguarding-conversation-live/
LOCATION:Zoom
CATEGORIES:DSL
ATTACH;FMTTYPE=image/jpeg:https://training.rachelbuckler.co.uk/wp-content/uploads/2021/03/EY-HUB-logo.jpg
END:VEVENT
BEGIN:VEVENT
DTSTART;TZID=Europe/London:20221012T183000
DTEND;TZID=Europe/London:20221012T193000
DTSTAMP:20260420T134917
CREATED:20220522T215756Z
LAST-MODIFIED:20220522T215756Z
UID:30186-1665599400-1665603000@training.rachelbuckler.co.uk
SUMMARY:Session 16 of the DSL Safeguarding Conversation Live
DESCRIPTION:You don't have access to this resource - sorry.
URL:https://training.rachelbuckler.co.uk/event/session-16-of-the-dsl-safeguarding-conversation-live/
LOCATION:Zoom
CATEGORIES:DSL
END:VEVENT
BEGIN:VEVENT
DTSTART;TZID=Europe/London:20220906T183000
DTEND;TZID=Europe/London:20220906T193000
DTSTAMP:20260420T134917
CREATED:20220522T215446Z
LAST-MODIFIED:20220522T215446Z
UID:30183-1662489000-1662492600@training.rachelbuckler.co.uk
SUMMARY:Session 15 of the DSL Safeguarding Conversation Live
DESCRIPTION:You don't have access to this resource - sorry.
URL:https://training.rachelbuckler.co.uk/event/session-15-of-the-dsl-safeguarding-conversation-live/
LOCATION:Zoom
CATEGORIES:DSL
END:VEVENT
BEGIN:VEVENT
DTSTART;TZID=Europe/London:20220707T183000
DTEND;TZID=Europe/London:20220707T193000
DTSTAMP:20260420T134917
CREATED:20211124T095947Z
LAST-MODIFIED:20220309T121956Z
UID:28988-1657218600-1657222200@training.rachelbuckler.co.uk
SUMMARY:Session 14 of the DSL Safeguarding Conversation Live
DESCRIPTION:You don't have access to this resource - sorry.
URL:https://training.rachelbuckler.co.uk/event/session-14-of-the-dsl-safeguarding-conversation-live/
LOCATION:Zoom
CATEGORIES:DSL
ATTACH;FMTTYPE=image/jpeg:https://training.rachelbuckler.co.uk/wp-content/uploads/2021/03/EY-HUB-logo.jpg
END:VEVENT
BEGIN:VEVENT
DTSTART;TZID=Europe/London:20220503T183000
DTEND;TZID=Europe/London:20220503T193000
DTSTAMP:20260420T134917
CREATED:20211124T095838Z
LAST-MODIFIED:20220309T121905Z
UID:28986-1651602600-1651606200@training.rachelbuckler.co.uk
SUMMARY:Session 13 of the DSL Safeguarding Conversation Live
DESCRIPTION:You don't have access to this resource - sorry.
URL:https://training.rachelbuckler.co.uk/event/session-13-of-the-dsl-safeguarding-conversation-live/
LOCATION:Zoom
CATEGORIES:DSL
ATTACH;FMTTYPE=image/jpeg:https://training.rachelbuckler.co.uk/wp-content/uploads/2021/03/EY-HUB-logo.jpg
END:VEVENT
BEGIN:VEVENT
DTSTART;TZID=Europe/London:20220301T183000
DTEND;TZID=Europe/London:20220301T193000
DTSTAMP:20260420T134917
CREATED:20211124T095710Z
LAST-MODIFIED:20211124T095710Z
UID:28984-1646159400-1646163000@training.rachelbuckler.co.uk
SUMMARY:Session 12 of the DSL Safeguarding Conversation Live
DESCRIPTION:You don't have access to this resource - sorry.
URL:https://training.rachelbuckler.co.uk/event/session-12-of-the-dsl-safeguarding-conversation-live/
LOCATION:Zoom
CATEGORIES:DSL
ATTACH;FMTTYPE=image/jpeg:https://training.rachelbuckler.co.uk/wp-content/uploads/2021/03/EY-HUB-logo.jpg
END:VEVENT
BEGIN:VEVENT
DTSTART;TZID=Europe/London:20220120T183000
DTEND;TZID=Europe/London:20220120T193000
DTSTAMP:20260420T134917
CREATED:20211124T095455Z
LAST-MODIFIED:20211124T095455Z
UID:28982-1642703400-1642707000@training.rachelbuckler.co.uk
SUMMARY:Session 11 of the DSL Safeguarding Conversation Live
DESCRIPTION:You don't have access to this resource - sorry.
URL:https://training.rachelbuckler.co.uk/event/session-11-of-the-dsl-safeguarding-conversation-live/
LOCATION:Zoom
CATEGORIES:DSL
ATTACH;FMTTYPE=image/jpeg:https://training.rachelbuckler.co.uk/wp-content/uploads/2021/03/EY-HUB-logo.jpg
END:VEVENT
BEGIN:VEVENT
DTSTART;TZID=Europe/London:20211130T183000
DTEND;TZID=Europe/London:20211130T193000
DTSTAMP:20260420T134917
CREATED:20210505T160634Z
LAST-MODIFIED:20211028T163833Z
UID:28183-1638297000-1638300600@training.rachelbuckler.co.uk
SUMMARY:Session 10 of the DSL Safeguarding Conversation Live
DESCRIPTION:You don't have access to this resource - sorry.
URL:https://training.rachelbuckler.co.uk/event/session-10-of-the-dsl-safeguarding-conversation-live/
LOCATION:Zoom
CATEGORIES:DSL
ATTACH;FMTTYPE=image/png:https://training.rachelbuckler.co.uk/wp-content/uploads/2020/12/Early-Years-Logo-Landscape.png
END:VEVENT
BEGIN:VEVENT
DTSTART;TZID=Europe/London:20211012T183000
DTEND;TZID=Europe/London:20211012T193000
DTSTAMP:20260420T134917
CREATED:20210505T160450Z
LAST-MODIFIED:20210505T160450Z
UID:28181-1634063400-1634067000@training.rachelbuckler.co.uk
SUMMARY:Session 9 of the DSL Safeguarding Conversation Live
DESCRIPTION:You don't have access to this resource - sorry.
URL:https://training.rachelbuckler.co.uk/event/session-9-of-the-dsl-safeguarding-conversation-live/
LOCATION:Zoom
CATEGORIES:DSL
ATTACH;FMTTYPE=image/jpeg:https://training.rachelbuckler.co.uk/wp-content/uploads/2021/03/EY-HUB-logo.jpg
END:VEVENT
BEGIN:VEVENT
DTSTART;TZID=Europe/London:20210908T183000
DTEND;TZID=Europe/London:20210908T193000
DTSTAMP:20260420T134917
CREATED:20210505T160344Z
LAST-MODIFIED:20210505T160344Z
UID:28179-1631125800-1631129400@training.rachelbuckler.co.uk
SUMMARY:Session 8 of the DSL Safeguarding Conversation Live
DESCRIPTION:You don't have access to this resource - sorry.
URL:https://training.rachelbuckler.co.uk/event/session-8-of-the-dsl-safeguarding-conversation-live/
LOCATION:Zoom
CATEGORIES:DSL
ATTACH;FMTTYPE=image/jpeg:https://training.rachelbuckler.co.uk/wp-content/uploads/2021/03/EY-HUB-logo.jpg
END:VEVENT
BEGIN:VEVENT
DTSTART;TZID=Europe/London:20210721T183000
DTEND;TZID=Europe/London:20210721T193000
DTSTAMP:20260420T134917
CREATED:20210505T154416Z
LAST-MODIFIED:20210505T154416Z
UID:28177-1626892200-1626895800@training.rachelbuckler.co.uk
SUMMARY:Session 7 of the DSL Safeguarding Conversation Live
DESCRIPTION:You don't have access to this resource - sorry.
URL:https://training.rachelbuckler.co.uk/event/session-7-of-the-dsl-safeguarding-conversation-live/
LOCATION:Zoom
CATEGORIES:DSL
ATTACH;FMTTYPE=image/jpeg:https://training.rachelbuckler.co.uk/wp-content/uploads/2021/03/EY-HUB-logo.jpg
END:VEVENT
BEGIN:VEVENT
DTSTART;TZID=Europe/London:20210602T183000
DTEND;TZID=Europe/London:20210602T193000
DTSTAMP:20260420T134917
CREATED:20210505T154303Z
LAST-MODIFIED:20210505T154303Z
UID:28175-1622658600-1622662200@training.rachelbuckler.co.uk
SUMMARY:Session 6 of the DSL Safeguarding Conversation Live
DESCRIPTION:You don't have access to this resource - sorry.
URL:https://training.rachelbuckler.co.uk/event/session-6-of-the-dsl-safeguarding-conversation-live/
LOCATION:Zoom
CATEGORIES:DSL
ATTACH;FMTTYPE=image/jpeg:https://training.rachelbuckler.co.uk/wp-content/uploads/2021/03/EY-HUB-logo.jpg
END:VEVENT
BEGIN:VEVENT
DTSTART;TZID=Europe/London:20210505T183000
DTEND;TZID=Europe/London:20210505T193000
DTSTAMP:20260420T134917
CREATED:20210414T215503Z
LAST-MODIFIED:20210414T215503Z
UID:28152-1620239400-1620243000@training.rachelbuckler.co.uk
SUMMARY:Session 5 of the DSL Safeguarding Conversation Live
DESCRIPTION:You don't have access to this resource - sorry.
URL:https://training.rachelbuckler.co.uk/event/session-5-of-the-dsl-safeguarding-conversation-live/
LOCATION:Zoom
CATEGORIES:DSL
ATTACH;FMTTYPE=image/jpeg:https://training.rachelbuckler.co.uk/wp-content/uploads/2021/03/EY-HUB-logo.jpg
END:VEVENT
BEGIN:VEVENT
DTSTART;TZID=Europe/London:20210414T183000
DTEND;TZID=Europe/London:20210414T193000
DTSTAMP:20260420T134917
CREATED:20210324T171350Z
LAST-MODIFIED:20210331T151004Z
UID:28031-1618425000-1618428600@training.rachelbuckler.co.uk
SUMMARY:Session 4 of the DSL Safeguarding Conversation Live
DESCRIPTION:You don't have access to this resource - sorry.
URL:https://training.rachelbuckler.co.uk/event/session-4-of-the-safeguarding-conversation-live/
LOCATION:Zoom
CATEGORIES:DSL
ATTACH;FMTTYPE=image/jpeg:https://training.rachelbuckler.co.uk/wp-content/uploads/2021/03/EY-HUB-logo.jpg
END:VEVENT
BEGIN:VEVENT
DTSTART;TZID=Europe/London:20210330T183000
DTEND;TZID=Europe/London:20210330T193000
DTSTAMP:20260420T134917
CREATED:20210214T215716Z
LAST-MODIFIED:20210324T172216Z
UID:27854-1617129000-1617132600@training.rachelbuckler.co.uk
SUMMARY:Session 3 of the DSL Safeguarding Conversation Live
DESCRIPTION:You don't have access to this resource - sorry.
URL:https://training.rachelbuckler.co.uk/event/session-3-of-the-safeguarding-conversation-live/
LOCATION:Zoom
CATEGORIES:DSL
END:VEVENT
BEGIN:VEVENT
DTSTART;TZID=UTC:20210310T140000
DTEND;TZID=UTC:20210310T150000
DTSTAMP:20260420T134917
CREATED:20210106T181524Z
LAST-MODIFIED:20210324T160828Z
UID:27780-1615384800-1615388400@training.rachelbuckler.co.uk
SUMMARY:Session 2 of the Safeguarding Conversation Live
DESCRIPTION:You don't have access to this resource - sorry.
URL:https://training.rachelbuckler.co.uk/event/session-2-of-the-safeguarding-conversation-live/
LOCATION:Zoom
CATEGORIES:DSL
ATTACH;FMTTYPE=image/png:https://training.rachelbuckler.co.uk/wp-content/uploads/2020/10/Early-Years-Hub_updated-1430.png
END:VEVENT
BEGIN:VEVENT
DTSTART;TZID=UTC:20210209T183000
DTEND;TZID=UTC:20210209T193000
DTSTAMP:20260420T134917
CREATED:20210106T181342Z
LAST-MODIFIED:20210324T160836Z
UID:27777-1612895400-1612899000@training.rachelbuckler.co.uk
SUMMARY:Session 1 of the Safeguarding Conversation Live
DESCRIPTION:You don't have access to this resource - sorry.
URL:https://training.rachelbuckler.co.uk/event/session-1-of-the-safeguarding-conversation-live/
LOCATION:Zoom
CATEGORIES:DSL
ATTACH;FMTTYPE=image/png:https://training.rachelbuckler.co.uk/wp-content/uploads/2020/10/Early-Years-Hub_updated-1430.png
END:VEVENT
END:VCALENDAR